BEGIN:VCALENDAR
VERSION:2.0
PRODID:-//Cape Fear Moto Group - ECPv6.13.1//NONSGML v1.0//EN
CALSCALE:GREGORIAN
METHOD:PUBLISH
X-ORIGINAL-URL:https://www.capefearmotogroup.com
X-WR-CALDESC:Events for Cape Fear Moto Group
REFRESH-INTERVAL;VALUE=DURATION:PT1H
X-Robots-Tag:noindex
X-PUBLISHED-TTL:PT1H
BEGIN:VTIMEZONE
TZID:America/Los_Angeles
BEGIN:DAYLIGHT
TZOFFSETFROM:-0800
TZOFFSETTO:-0700
TZNAME:PDT
DTSTART:20260308T100000
END:DAYLIGHT
BEGIN:STANDARD
TZOFFSETFROM:-0700
TZOFFSETTO:-0800
TZNAME:PST
DTSTART:20261101T090000
END:STANDARD
END:VTIMEZONE
BEGIN:VEVENT
DTSTART;TZID=America/Los_Angeles:20260509T103000
DTEND;TZID=America/Los_Angeles:20260509T120000
DTSTAMP:20260419T092002
CREATED:20260413T210401Z
LAST-MODIFIED:20260413T210401Z
UID:8428-1778322600-1778328000@www.capefearmotogroup.com
SUMMARY:Second Saturday Bikes & Bagels
DESCRIPTION:Want to hang with a bunch of bikers\, have breakfast on us\, and demo a bike or two? Join us for bagels\, donuts\, (good) coffee\, great company\, and deals on Saturday\, May 9th from 10:30 until. Come hungry! 🤙
URL:https://www.capefearmotogroup.com/event/second-saturday-bikes-bagels-5/
ATTACH;FMTTYPE=image/png:https://www.capefearmotogroup.com/wp-content/uploads/2026/03/CFMG-Bikes-Bagels-Mobile-Banner-1.png
END:VEVENT
END:VCALENDAR